BEGIN:VCALENDAR
VERSION:2.0
PRODID:-//Parish of Burbage and Aston Flamville - ECPv6.15.14//NONSGML v1.0//EN
CALSCALE:GREGORIAN
METHOD:PUBLISH
X-WR-CALNAME:Parish of Burbage and Aston Flamville
X-ORIGINAL-URL:https://parishofburbageandastonflamville.co.uk
X-WR-CALDESC:Events for Parish of Burbage and Aston Flamville
REFRESH-INTERVAL;VALUE=DURATION:PT1H
X-Robots-Tag:noindex
X-PUBLISHED-TTL:PT1H
BEGIN:VTIMEZONE
TZID:UTC
BEGIN:STANDARD
TZOFFSETFROM:+0000
TZOFFSETTO:+0000
TZNAME:UTC
DTSTART:20230101T000000
END:STANDARD
END:VTIMEZONE
BEGIN:VEVENT
DTSTART;TZID=UTC:20241220T190000
DTEND;TZID=UTC:20241220T200000
DTSTAMP:20260423T120206
CREATED:20241214T124700Z
LAST-MODIFIED:20241214T131640Z
UID:6006-1734721200-1734724800@parishofburbageandastonflamville.co.uk
SUMMARY:Carols Round the Tree\, Burbage
DESCRIPTION:The Mayor of Hinckley & Bosworth\, Cllr Robin Webber-Jones and his Consorts\, daughters Amelia and Clara\, are to attend a Christmas service hosted by St Catherine’s Church at the Coronation Tree on Church Street on Friday December 20. \nIt will include a collection for the mayor’s chosen charities – Twycross Zoo\, Hinckley Homeless Group and Alzheimer’s Society – and St Catherine’s Church Save Our Spire appeal. \nThe service starts at 7pm\, with a road closure from 6pm to 9pm.
URL:https://parishofburbageandastonflamville.co.uk/event/carols-round-the-tree-burbae
LOCATION:St. Catherine’s Church\, Hinckley Road\, Burbage\, LE10 2DE
END:VEVENT
BEGIN:VEVENT
DTSTART;TZID=UTC:20241026T103000
DTEND;TZID=UTC:20241026T120000
DTSTAMP:20260423T120206
CREATED:20241005T100639Z
LAST-MODIFIED:20241016T071043Z
UID:4879-1729938600-1729944000@parishofburbageandastonflamville.co.uk
SUMMARY:Moat House Cake Sale
DESCRIPTION:
URL:https://parishofburbageandastonflamville.co.uk/event/moat-house-cake-sale
LOCATION:Leicester
END:VEVENT
BEGIN:VEVENT
DTSTART;TZID=UTC:20241022T100000
DTEND;TZID=UTC:20241022T120000
DTSTAMP:20260423T120206
CREATED:20241010T155017Z
LAST-MODIFIED:20241010T161236Z
UID:4946-1729591200-1729598400@parishofburbageandastonflamville.co.uk
SUMMARY:Autumn Half Term Activity Morning
DESCRIPTION:Coffee\, tea\, squash and biscuits\nToddler play and primary age crafts\nBring the family and meet up with friends
URL:https://parishofburbageandastonflamville.co.uk/event/autumn-half-term-activity-morning
LOCATION:Leicester
END:VEVENT
BEGIN:VEVENT
DTSTART;TZID=UTC:20241016T193000
DTEND;TZID=UTC:20241016T223000
DTSTAMP:20260423T120206
CREATED:20241005T101316Z
LAST-MODIFIED:20241005T101444Z
UID:4886-1729107000-1729117800@parishofburbageandastonflamville.co.uk
SUMMARY:Curryoke - The Windsor Tiffin
DESCRIPTION:
URL:https://parishofburbageandastonflamville.co.uk/event/curryoke-the-windsor-tiffin
LOCATION:Leicester
END:VEVENT
BEGIN:VEVENT
DTSTART;TZID=UTC:20241016T120000
DTEND;TZID=UTC:20241016T133000
DTSTAMP:20260423T120206
CREATED:20241005T120834Z
LAST-MODIFIED:20241005T121155Z
UID:4907-1729080000-1729085400@parishofburbageandastonflamville.co.uk
SUMMARY:Lunch Club
DESCRIPTION:Lunch club is every other Wednesday. Please check Weekly Notice Sheet to see if it is on this week.
URL:https://parishofburbageandastonflamville.co.uk/event/lunch-club
LOCATION:Leicester
END:VEVENT
BEGIN:VEVENT
DTSTART;TZID=UTC:20241007T110000
DTEND;TZID=UTC:20241007T130000
DTSTAMP:20260423T120206
CREATED:20241005T114318Z
LAST-MODIFIED:20241005T114318Z
UID:4901-1728298800-1728306000@parishofburbageandastonflamville.co.uk
SUMMARY:Cob and Cuppa
DESCRIPTION:All comers welcome no need to book. \nClick here to check weekly notice sheet to make sure the event is on this week
URL:https://parishofburbageandastonflamville.co.uk/event/cob-and-cuppa
LOCATION:Leicester
END:VEVENT
BEGIN:VEVENT
DTSTART;TZID=UTC:20240922T153000
DTEND;TZID=UTC:20240922T173000
DTSTAMP:20260423T120206
CREATED:20241005T120131Z
LAST-MODIFIED:20241005T120131Z
UID:4905-1727019000-1727026200@parishofburbageandastonflamville.co.uk
SUMMARY:Messy Church
DESCRIPTION:All welcome to join us for messy church
URL:https://parishofburbageandastonflamville.co.uk/event/messy-church
LOCATION:Leicester
END:VEVENT
END:VCALENDAR