BEGIN:VCALENDAR
VERSION:2.0
PRODID:-//Parish of Burbage and Aston Flamville - ECPv6.15.14//NONSGML v1.0//EN
CALSCALE:GREGORIAN
METHOD:PUBLISH
X-WR-CALNAME:Parish of Burbage and Aston Flamville
X-ORIGINAL-URL:https://parishofburbageandastonflamville.co.uk
X-WR-CALDESC:Events for Parish of Burbage and Aston Flamville
REFRESH-INTERVAL;VALUE=DURATION:PT1H
X-Robots-Tag:noindex
X-PUBLISHED-TTL:PT1H
BEGIN:VTIMEZONE
TZID:UTC
BEGIN:STANDARD
TZOFFSETFROM:+0000
TZOFFSETTO:+0000
TZNAME:UTC
DTSTART:20240101T000000
END:STANDARD
END:VTIMEZONE
BEGIN:VEVENT
DTSTART;TZID=UTC:20250802T190000
DTEND;TZID=UTC:20250802T213000
DTSTAMP:20260422T200756
CREATED:20250618T140512Z
LAST-MODIFIED:20250618T140512Z
UID:7467-1754161200-1754170200@parishofburbageandastonflamville.co.uk
SUMMARY:What  Shapes a Soul? Music from Smauel Beddard and Jo Foote
DESCRIPTION:An exploration of spirituality in music\, taking the listner on a journey from American Gospel\, to it routes in African folk music featuring saxophonist Samaul Beddard and painist Jo Foote.
URL:https://parishofburbageandastonflamville.co.uk/event/what-shapes-a-soul-music-from-smauel-beddard-and-jo-foote
LOCATION:St. Catherine’s Church\, Hinckley Road\, Burbage\, LE10 2DE
END:VEVENT
END:VCALENDAR