BEGIN:VCALENDAR
VERSION:2.0
PRODID:-//Parish of Burbage and Aston Flamville - ECPv6.15.14//NONSGML v1.0//EN
CALSCALE:GREGORIAN
METHOD:PUBLISH
X-WR-CALNAME:Parish of Burbage and Aston Flamville
X-ORIGINAL-URL:https://parishofburbageandastonflamville.co.uk
X-WR-CALDESC:Events for Parish of Burbage and Aston Flamville
REFRESH-INTERVAL;VALUE=DURATION:PT1H
X-Robots-Tag:noindex
X-PUBLISHED-TTL:PT1H
BEGIN:VTIMEZONE
TZID:UTC
BEGIN:STANDARD
TZOFFSETFROM:+0000
TZOFFSETTO:+0000
TZNAME:UTC
DTSTART:20240101T000000
END:STANDARD
END:VTIMEZONE
BEGIN:VEVENT
DTSTART;TZID=UTC:20250426T093000
DTEND;TZID=UTC:20250426T133000
DTSTAMP:20260424T042102
CREATED:20250329T111749Z
LAST-MODIFIED:20250329T111749Z
UID:6904-1745659800-1745674200@parishofburbageandastonflamville.co.uk
SUMMARY:Christain Aid Fair St. Mary's Church\, Hinckley
DESCRIPTION:
URL:https://parishofburbageandastonflamville.co.uk/event/christain-aid-fair-st-marys-church-hinckley
LOCATION:st.mary’s Church\, Church Walk\, Hinckley\, LE10 1DW\, United Kingdom
END:VEVENT
BEGIN:VEVENT
DTSTART;TZID=UTC:20250426T143000
DTEND;TZID=UTC:20250426T163000
DTSTAMP:20260424T042102
CREATED:20250407T091453Z
LAST-MODIFIED:20250407T092203Z
UID:6971-1745677800-1745685000@parishofburbageandastonflamville.co.uk
SUMMARY:St George’s Afternoon Tea
DESCRIPTION:St George’s Afternoon Tea \n\nIn the Refectory on 26th April st 2.30pm\nTickets now available. Message\nClem to book your place.\nTickets are £20 each.
URL:https://parishofburbageandastonflamville.co.uk/event/st-georges-afternoon-tea
LOCATION:St. Catherine’s Church\, Hinckley Road\, Burbage\, LE10 2DE
ORGANIZER;CN="Clem Morrison":MAILTO:Clementmorrison@gmail.com
END:VEVENT
END:VCALENDAR