BEGIN:VCALENDAR
VERSION:2.0
PRODID:-//Parish of Burbage and Aston Flamville - ECPv6.15.14//NONSGML v1.0//EN
CALSCALE:GREGORIAN
METHOD:PUBLISH
X-WR-CALNAME:Parish of Burbage and Aston Flamville
X-ORIGINAL-URL:https://parishofburbageandastonflamville.co.uk
X-WR-CALDESC:Events for Parish of Burbage and Aston Flamville
REFRESH-INTERVAL;VALUE=DURATION:PT1H
X-Robots-Tag:noindex
X-PUBLISHED-TTL:PT1H
BEGIN:VTIMEZONE
TZID:UTC
BEGIN:STANDARD
TZOFFSETFROM:+0000
TZOFFSETTO:+0000
TZNAME:UTC
DTSTART:20240101T000000
END:STANDARD
END:VTIMEZONE
BEGIN:VEVENT
DTSTART;VALUE=DATE:20250413
DTEND;VALUE=DATE:20250421
DTSTAMP:20260424T042104
CREATED:20250410T100409Z
LAST-MODIFIED:20250410T100506Z
UID:6995-1744502400-1745193599@parishofburbageandastonflamville.co.uk
SUMMARY:Easter Week
DESCRIPTION:
URL:https://parishofburbageandastonflamville.co.uk/event/easter-week
LOCATION:St. Catherine’s Church\, Hinckley Road\, Burbage\, LE10 2DE
END:VEVENT
BEGIN:VEVENT
DTSTART;TZID=UTC:20250418T100000
DTEND;TZID=UTC:20250418T120000
DTSTAMP:20260424T042104
CREATED:20250322T093057Z
LAST-MODIFIED:20250322T093633Z
UID:6854-1744970400-1744977600@parishofburbageandastonflamville.co.uk
SUMMARY:Messy Church Good Friday April 18th
DESCRIPTION:
URL:https://parishofburbageandastonflamville.co.uk/event/messy-church-april-18th
END:VEVENT
END:VCALENDAR